BEGIN:VCALENDAR
VERSION:2.0
PRODID:-//Diabète Estrie - ECPv6.15.18//NONSGML v1.0//EN
CALSCALE:GREGORIAN
METHOD:PUBLISH
X-WR-CALNAME:Diabète Estrie
X-ORIGINAL-URL:https://diabete-estrie.ca
X-WR-CALDESC:Évènements pour Diabète Estrie
REFRESH-INTERVAL;VALUE=DURATION:PT1H
X-Robots-Tag:noindex
X-PUBLISHED-TTL:PT1H
BEGIN:VTIMEZONE
TZID:America/Toronto
BEGIN:DAYLIGHT
TZOFFSETFROM:-0500
TZOFFSETTO:-0400
TZNAME:EDT
DTSTART:20250309T070000
END:DAYLIGHT
BEGIN:STANDARD
TZOFFSETFROM:-0400
TZOFFSETTO:-0500
TZNAME:EST
DTSTART:20251102T060000
END:STANDARD
BEGIN:DAYLIGHT
TZOFFSETFROM:-0500
TZOFFSETTO:-0400
TZNAME:EDT
DTSTART:20260308T070000
END:DAYLIGHT
BEGIN:STANDARD
TZOFFSETFROM:-0400
TZOFFSETTO:-0500
TZNAME:EST
DTSTART:20261101T060000
END:STANDARD
BEGIN:DAYLIGHT
TZOFFSETFROM:-0500
TZOFFSETTO:-0400
TZNAME:EDT
DTSTART:20270314T070000
END:DAYLIGHT
BEGIN:STANDARD
TZOFFSETFROM:-0400
TZOFFSETTO:-0500
TZNAME:EST
DTSTART:20271107T060000
END:STANDARD
END:VTIMEZONE
BEGIN:VEVENT
DTSTART;TZID=America/Toronto:20260423T180000
DTEND;TZID=America/Toronto:20260423T193000
DTSTAMP:20260423T143430
CREATED:20260423T150920Z
LAST-MODIFIED:20260423T150920Z
UID:15771332-1776967200-1776972600@diabete-estrie.ca
SUMMARY:Conférence sur les hypoglycémies
DESCRIPTION:🚨 Alerte santé à ne pas manquer! 🚨 \nLe comité des saines habitudes de vie vous convie à une conférence essentielle sur les hypoglycémies — parce que savoir réagir peut tout changer. \n📅 Jeudi 23 avril 2026\n📍 Diabète Estrie – 600 rue Woodward\, Sherbrooke\n⏰ 18 h à 19 h 30 \n💡 Nouvelle capsule Découverte!\nUn rendez-vous concret\, utile et accessible pour mieux comprendre les hypoglycémies et surtout… savoir quoi faire! \n\n🎯 Au programme :\n✔ Reconnaître les signes d’hypoglycémie\n✔ Savoir comment intervenir rapidement\n✔ Découvrir des stratégies simples pour prévenir\n✔ Poser toutes vos questions sans gêne \n🔥 Que vous soyez concerné de près ou de loin\, cette rencontre pourrait faire une vraie différence dans votre quotidien. \n👉 Venez vous informer\, échanger et repartir mieux outillé! \nVous devez vous inscrire: INSCRIPTION \nConférenciers: \nMélanie Roy\, pharmacienne \nCharles Sylvestre\, enseignant \nLaurence Castonguay\, nutrtionniste \n 
URL:https://diabete-estrie.ca/evenement/conference-sur-les-hypoglycemies-2/
LOCATION:600 rue Woodward\, 600 rue Woodward\, Sherbrooke\, Québec\, J1G 1W3\, Canada
ATTACH;FMTTYPE=image/jpeg:https://diabete-estrie.ca/wp-content/uploads/2025/10/hypoglycemie-0.jpg
ORGANIZER;CN="Diab%C3%A8te Estrie":MAILTO:info@diabete-estrie.ca
END:VEVENT
END:VCALENDAR