BEGIN:VCALENDAR
VERSION:2.0
PRODID:-//Diabète Estrie - ECPv6.15.18//NONSGML v1.0//EN
CALSCALE:GREGORIAN
METHOD:PUBLISH
X-WR-CALNAME:Diabète Estrie
X-ORIGINAL-URL:https://diabete-estrie.ca
X-WR-CALDESC:Évènements pour Diabète Estrie
REFRESH-INTERVAL;VALUE=DURATION:PT1H
X-Robots-Tag:noindex
X-PUBLISHED-TTL:PT1H
BEGIN:VTIMEZONE
TZID:America/Toronto
BEGIN:DAYLIGHT
TZOFFSETFROM:-0500
TZOFFSETTO:-0400
TZNAME:EDT
DTSTART:20220313T070000
END:DAYLIGHT
BEGIN:STANDARD
TZOFFSETFROM:-0400
TZOFFSETTO:-0500
TZNAME:EST
DTSTART:20221106T060000
END:STANDARD
BEGIN:DAYLIGHT
TZOFFSETFROM:-0500
TZOFFSETTO:-0400
TZNAME:EDT
DTSTART:20230312T070000
END:DAYLIGHT
BEGIN:STANDARD
TZOFFSETFROM:-0400
TZOFFSETTO:-0500
TZNAME:EST
DTSTART:20231105T060000
END:STANDARD
BEGIN:DAYLIGHT
TZOFFSETFROM:-0500
TZOFFSETTO:-0400
TZNAME:EDT
DTSTART:20240310T070000
END:DAYLIGHT
BEGIN:STANDARD
TZOFFSETFROM:-0400
TZOFFSETTO:-0500
TZNAME:EST
DTSTART:20241103T060000
END:STANDARD
END:VTIMEZONE
BEGIN:VEVENT
DTSTART;TZID=America/Toronto:20231015T094500
DTEND;TZID=America/Toronto:20231015T113000
DTSTAMP:20260423T194429
CREATED:20230324T181832Z
LAST-MODIFIED:20231026T142637Z
UID:15768798-1697363100-1697369400@diabete-estrie.ca
SUMMARY:La Grande marche de Sherbrooke le 15 octobre 2023
DESCRIPTION:La grande marche 2023 fut un grand succès: Merci à tous les participants et à tous nos bénévoles sans qui cette activité ne pourrait avoir lieu!\nNous vous invitons à aller voir notre galerie de photos:\nGalerie de photos \n____________________________________________________________________________________________________________ \nVoici une entrevue avant l’événement avec la Dre Louise Frenette pour faire la promotion de cet événement de famille!\nhttps://diabete-estrie.ca/wp-content/uploads/2023/03/Nouvel-enregistrement-18.m4a\n\n____________________________________________________________________\nArticle paru dans la tribune sur notre événement!\nhttps://www.latribune.ca/actualites/actualites-locales/sherbrooke/2023/10/15/plus-de-1000-estriens-marchent-pour-leur-sante-R3S4W3AFQZEMVB2DN2PATYY2UA/ \n____________________________________________________________________\nBulletin de nouvelles de Radio Canada sur l’événement:\nhttps://youtu.be/k5gb7AMAKuQ \n\nLa Grande marche de Sherbrooke\nCette année venez marcher avec nous au Parc Blanchard pour un 2km ou un 5 km. \nActivité familiale gratuite pour tous. \nIl y aura un poste de dépistage du diabète pour tous! \ndimanche 15 octobre 2023\nHeure de départ : 09 h 45 à 10 h 15\nParc Lucien-Blanchard \n755\, rue Cabana \nHoraire\n\n09 h 45\n\n– Départ continu des marcheurs jusqu’à 10 h 15\n\n\n\n\n10 h 45\n\n– Service de la collation\n\n\n  \nmerci de vous inscrire dès que possible! \nhttps://onmarche.com/evenement/292
URL:https://diabete-estrie.ca/evenement/le-grand-defi-pierre-lavoie/
LOCATION:Parc Blanchard\, 755\, rue Cabana\, Sherbrooke\, Québec\, J1K 0A6\, Canada
CATEGORIES:Évènements passés
ATTACH;FMTTYPE=image/jpeg:https://diabete-estrie.ca/wp-content/uploads/2023/06/DSC7329-scaled.jpg
ORGANIZER;CN="Diab%C3%A8te Estrie":MAILTO:info@diabete-estrie.ca
END:VEVENT
END:VCALENDAR