BEGIN:VCALENDAR
VERSION:2.0
PRODID:-//Diabète Estrie - ECPv6.15.18//NONSGML v1.0//EN
CALSCALE:GREGORIAN
METHOD:PUBLISH
X-WR-CALNAME:Diabète Estrie
X-ORIGINAL-URL:https://diabete-estrie.ca
X-WR-CALDESC:Évènements pour Diabète Estrie
REFRESH-INTERVAL;VALUE=DURATION:PT1H
X-Robots-Tag:noindex
X-PUBLISHED-TTL:PT1H
BEGIN:VTIMEZONE
TZID:America/Toronto
BEGIN:DAYLIGHT
TZOFFSETFROM:-0500
TZOFFSETTO:-0400
TZNAME:EDT
DTSTART:20230312T070000
END:DAYLIGHT
BEGIN:STANDARD
TZOFFSETFROM:-0400
TZOFFSETTO:-0500
TZNAME:EST
DTSTART:20231105T060000
END:STANDARD
BEGIN:DAYLIGHT
TZOFFSETFROM:-0500
TZOFFSETTO:-0400
TZNAME:EDT
DTSTART:20240310T070000
END:DAYLIGHT
BEGIN:STANDARD
TZOFFSETFROM:-0400
TZOFFSETTO:-0500
TZNAME:EST
DTSTART:20241103T060000
END:STANDARD
BEGIN:DAYLIGHT
TZOFFSETFROM:-0500
TZOFFSETTO:-0400
TZNAME:EDT
DTSTART:20250309T070000
END:DAYLIGHT
BEGIN:STANDARD
TZOFFSETFROM:-0400
TZOFFSETTO:-0500
TZNAME:EST
DTSTART:20251102T060000
END:STANDARD
END:VTIMEZONE
BEGIN:VEVENT
DTSTART;TZID=America/Toronto:20240420T090000
DTEND;TZID=America/Toronto:20240420T140000
DTSTAMP:20260424T000636
CREATED:20240423T131638Z
LAST-MODIFIED:20240423T152249Z
UID:15770084-1713603600-1713621600@diabete-estrie.ca
SUMMARY:Le samedi 20 avril 2024 Salon des Lions avec Diabète Estrie
DESCRIPTION:Nous avons été invité par Lion Céline  Benoît\, Club Lions de Sherbrooke\, Comité Congrès District  U-  4 \, a participer pour la première fois à leur colloque annuel à Sherbrooke. Plusieurs conférences ont été données dans le cadre de cet événement. \nEn plus de tenir un poste de dépistage avec notre infirmière  Anne Marcoux\, nous avons pu présenter notre association à tous!. \nNous avons eu le bonheur de rencontrer une jeune fille qui avait été parrainée pour aller aux camps d’été pour diabétiques il y a plusieurs année. Elle a un chien guide détecteur d’hypoglycémie fourni par les Lions. Qu’elle belle rencontre.! Vous la rencontrerez surement bientôt puisque sa mère et elle seront des bénévoles pour Diabète Estrie maintenant! \nMerci à Jeannine Lapierre notre présidente toujours présente pour le bénévolat! \n             \n                                                                        
URL:https://diabete-estrie.ca/evenement/salon-des-lions-avec-diabete-estrie/
LOCATION:Delta\, 2685 Rue King Oues\, Sherbrooke\, Québec\, J1L 1C1\, Canada
CATEGORIES:Évènements passés
ATTACH;FMTTYPE=image/jpeg:https://diabete-estrie.ca/wp-content/uploads/2024/04/Photos-des-3-e1713878360341.jpg
ORGANIZER;CN="Diab%C3%A8te Estrie":MAILTO:info@diabete-estrie.ca
END:VEVENT
END:VCALENDAR