BEGIN:VCALENDAR
VERSION:2.0
PRODID:-//Diabète Estrie - ECPv6.15.18//NONSGML v1.0//EN
CALSCALE:GREGORIAN
METHOD:PUBLISH
X-ORIGINAL-URL:https://diabete-estrie.ca
X-WR-CALDESC:Évènements pour Diabète Estrie
REFRESH-INTERVAL;VALUE=DURATION:PT1H
X-Robots-Tag:noindex
X-PUBLISHED-TTL:PT1H
BEGIN:VTIMEZONE
TZID:America/Toronto
BEGIN:DAYLIGHT
TZOFFSETFROM:-0500
TZOFFSETTO:-0400
TZNAME:EDT
DTSTART:20220313T070000
END:DAYLIGHT
BEGIN:STANDARD
TZOFFSETFROM:-0400
TZOFFSETTO:-0500
TZNAME:EST
DTSTART:20221106T060000
END:STANDARD
BEGIN:DAYLIGHT
TZOFFSETFROM:-0500
TZOFFSETTO:-0400
TZNAME:EDT
DTSTART:20230312T070000
END:DAYLIGHT
BEGIN:STANDARD
TZOFFSETFROM:-0400
TZOFFSETTO:-0500
TZNAME:EST
DTSTART:20231105T060000
END:STANDARD
BEGIN:DAYLIGHT
TZOFFSETFROM:-0500
TZOFFSETTO:-0400
TZNAME:EDT
DTSTART:20240310T070000
END:DAYLIGHT
BEGIN:STANDARD
TZOFFSETFROM:-0400
TZOFFSETTO:-0500
TZNAME:EST
DTSTART:20241103T060000
END:STANDARD
END:VTIMEZONE
BEGIN:VEVENT
DTSTART;TZID=America/Toronto:20230912T140000
DTEND;TZID=America/Toronto:20230912T160000
DTSTAMP:20260423T194823
CREATED:20230619T143419Z
LAST-MODIFIED:20240311T133955Z
UID:20000039-1694527200-1694534400@diabete-estrie.ca
SUMMARY:Après-midi causeries
DESCRIPTION:Pour un brin de causette avec d’autres personnes diabétiques\, échanger\, tisser des nouveaux liens. Tous les 2e mardi du mois\, de 14 h à 16 h avec Jeannine Lapierre\, présidente de Diabète Estrie et diabétique de type 1 et Lina Courtois\, vice-présidente et diabétique de type 2. \nNous vous proposons des jeux de société\, des causeries ou toutes autres activités qui sauront vous plaire. Nous sommes ouverts à vos suggestions! \nC’est un rendez-vous!
URL:https://diabete-estrie.ca/evenement/apres-midi-causeries-2-2/2023-09-12/
LOCATION:La maison Jeannine-Lapierre\, 600 rue Woodward\, Sherbrooke\, Québec\, J1G 1W3\, Canada
ATTACH;FMTTYPE=image/jpeg:https://diabete-estrie.ca/wp-content/uploads/2023/02/Designer2.jpg
ORGANIZER;CN="Diab%C3%A8te Estrie":MAILTO:info@diabete-estrie.ca
END:VEVENT
BEGIN:VEVENT
DTSTART;TZID=America/Toronto:20230928T093000
DTEND;TZID=America/Toronto:20230928T110000
DTSTAMP:20260423T194823
CREATED:20230724T180202Z
LAST-MODIFIED:20240315T130107Z
UID:20000059-1695893400-1695898800@diabete-estrie.ca
SUMMARY:En prévention de l'Alzheimer: Musclez vos méninges
DESCRIPTION:Avec la collaboration de Société Alzheimer de l’Estrie nous vous offrons des ateliers pour Musclez vos méninges. Pendant 9 semaines/ une fois par semaine \nTous les jeudis matins du 28 septembre au 23 novembre de 9h30h-11h00 pour 9 semaines. \nLa formation est gratuite mais les participants devront se procurer le cahier du participant au cout de 25$. Vous devez vous inscrire pour les 9 semaines au complet. \nLes places sont limitées! \nVeuillez indiquer en titre le nom de l’atelier INSCRIPTION: info@diabete-estrie.ca \nou au 819-823-8558.
URL:https://diabete-estrie.ca/evenement/en-prevention-de-lalzheimer-musclez-vos-meninges/2023-09-28/
LOCATION:Zoo de Granby\, 1050 Boulevard David-Bouchard N\, Granby\, J2H 0Y6
CATEGORIES:Évènements passés
ATTACH;FMTTYPE=image/jpeg:https://diabete-estrie.ca/wp-content/uploads/2023/05/dementia-3051832_1280.jpg
ORGANIZER;CN="Diab%C3%A8te Estrie":MAILTO:info@diabete-estrie.ca
END:VEVENT
END:VCALENDAR