BEGIN:VCALENDAR
VERSION:2.0
PRODID:-//Diabète Estrie - ECPv6.15.18//NONSGML v1.0//EN
CALSCALE:GREGORIAN
METHOD:PUBLISH
X-ORIGINAL-URL:https://diabete-estrie.ca
X-WR-CALDESC:Évènements pour Diabète Estrie
REFRESH-INTERVAL;VALUE=DURATION:PT1H
X-Robots-Tag:noindex
X-PUBLISHED-TTL:PT1H
BEGIN:VTIMEZONE
TZID:America/Toronto
BEGIN:DAYLIGHT
TZOFFSETFROM:-0500
TZOFFSETTO:-0400
TZNAME:EDT
DTSTART:20230312T070000
END:DAYLIGHT
BEGIN:STANDARD
TZOFFSETFROM:-0400
TZOFFSETTO:-0500
TZNAME:EST
DTSTART:20231105T060000
END:STANDARD
BEGIN:DAYLIGHT
TZOFFSETFROM:-0500
TZOFFSETTO:-0400
TZNAME:EDT
DTSTART:20240310T070000
END:DAYLIGHT
BEGIN:STANDARD
TZOFFSETFROM:-0400
TZOFFSETTO:-0500
TZNAME:EST
DTSTART:20241103T060000
END:STANDARD
BEGIN:DAYLIGHT
TZOFFSETFROM:-0500
TZOFFSETTO:-0400
TZNAME:EDT
DTSTART:20250309T070000
END:DAYLIGHT
BEGIN:STANDARD
TZOFFSETFROM:-0400
TZOFFSETTO:-0500
TZNAME:EST
DTSTART:20251102T060000
END:STANDARD
END:VTIMEZONE
BEGIN:VEVENT
DTSTART;TZID=America/Toronto:20240213T140000
DTEND;TZID=America/Toronto:20240213T160000
DTSTAMP:20260423T211342
CREATED:20230619T143419Z
LAST-MODIFIED:20240311T133955Z
UID:20000044-1707832800-1707840000@diabete-estrie.ca
SUMMARY:Après-midi causeries
DESCRIPTION:Pour un brin de causette avec d’autres personnes diabétiques\, échanger\, tisser des nouveaux liens. Tous les 2e mardi du mois\, de 14 h à 16 h avec Jeannine Lapierre\, présidente de Diabète Estrie et diabétique de type 1 et Lina Courtois\, vice-présidente et diabétique de type 2. \nNous vous proposons des jeux de société\, des causeries ou toutes autres activités qui sauront vous plaire. Nous sommes ouverts à vos suggestions! \nC’est un rendez-vous!
URL:https://diabete-estrie.ca/evenement/apres-midi-causeries-2-2/2024-02-13/
LOCATION:La maison Jeannine-Lapierre\, 600 rue Woodward\, Sherbrooke\, Québec\, J1G 1W3\, Canada
ATTACH;FMTTYPE=image/jpeg:https://diabete-estrie.ca/wp-content/uploads/2023/02/Designer2.jpg
ORGANIZER;CN="Diab%C3%A8te Estrie":MAILTO:info@diabete-estrie.ca
END:VEVENT
BEGIN:VEVENT
DTSTART;TZID=America/Toronto:20240217T080000
DTEND;TZID=America/Toronto:20240218T170000
DTSTAMP:20260423T211342
CREATED:20240129T151436Z
LAST-MODIFIED:20240226T161446Z
UID:20000063-1708156800-1708275600@diabete-estrie.ca
SUMMARY:Diabète Estrie vous offre 17 et 18 février 2024 Quartier découverte DT1 2024 avec FRED
DESCRIPTION:Nous sommes de retour ! L’événement tant attendu\, le Quartier Découverte DT1 (QDDT1)\, revient pour sa 2ème édition ! \nAprès le succès retentissant de l’année dernière\, nous vous préparons un autre week-end spectaculaire. Attendez vous à des quartiers uniques pour tous les âges\, des conférences captivantes pour les parents et les ados\, ainsi que des activités familiales palpitantes\, le tout entouré des animaux du Zoo de Granby ! \nUN WEEK-END D’ACTIVITÉS ET D’APPRENTISSAGES EN FAMILLE \nPour les parents:\nC’est l’occasion de faire le plein d’informations auprès des professionnels de la santé dans un cadre informel et de passer du temps de qualité avec son ou ses jeunes\, dans un environnement sécuritaire et inspirant. \nPour les jeunes:\nC’est l’occasion de rencontrer d’autres enfants DT1\, de participer à une foule d’activités uniques\, et d’approfondir ses apprentissages dans un cadre stimulant. \nSurtout\, le Quartier Découverte DT1\, c’est la possibilité de rencontrer d’autres familles\, d’échanger sur les expériences vécues et de trouver des astuces pour faire face à certaines situations. \nC’est un évènement à ne pas manquer ! \n \n 
URL:https://diabete-estrie.ca/evenement/diabete-estrie-vous-offre-17-et-18-fevrier-2024-quartier-decouverte-dt1-2024-avec-fred/
LOCATION:Zoo de Granby\, 1050 Boulevard David-Bouchard N\, Granby\, J2H 0Y6
CATEGORIES:Évènements passés
ATTACH;FMTTYPE=image/png:https://diabete-estrie.ca/wp-content/uploads/2024/01/QD-2024.png
ORGANIZER;CN="Diab%C3%A8te Estrie":MAILTO:info@diabete-estrie.ca
END:VEVENT
END:VCALENDAR