BEGIN:VCALENDAR
VERSION:2.0
PRODID:-//Diabète Estrie - ECPv6.15.18//NONSGML v1.0//EN
CALSCALE:GREGORIAN
METHOD:PUBLISH
X-WR-CALNAME:Diabète Estrie
X-ORIGINAL-URL:https://diabete-estrie.ca
X-WR-CALDESC:Évènements pour Diabète Estrie
REFRESH-INTERVAL;VALUE=DURATION:PT1H
X-Robots-Tag:noindex
X-PUBLISHED-TTL:PT1H
BEGIN:VTIMEZONE
TZID:America/Toronto
BEGIN:DAYLIGHT
TZOFFSETFROM:-0500
TZOFFSETTO:-0400
TZNAME:EDT
DTSTART:20230312T070000
END:DAYLIGHT
BEGIN:STANDARD
TZOFFSETFROM:-0400
TZOFFSETTO:-0500
TZNAME:EST
DTSTART:20231105T060000
END:STANDARD
BEGIN:DAYLIGHT
TZOFFSETFROM:-0500
TZOFFSETTO:-0400
TZNAME:EDT
DTSTART:20240310T070000
END:DAYLIGHT
BEGIN:STANDARD
TZOFFSETFROM:-0400
TZOFFSETTO:-0500
TZNAME:EST
DTSTART:20241103T060000
END:STANDARD
BEGIN:DAYLIGHT
TZOFFSETFROM:-0500
TZOFFSETTO:-0400
TZNAME:EDT
DTSTART:20250309T070000
END:DAYLIGHT
BEGIN:STANDARD
TZOFFSETFROM:-0400
TZOFFSETTO:-0500
TZNAME:EST
DTSTART:20251102T060000
END:STANDARD
END:VTIMEZONE
BEGIN:VEVENT
DTSTART;TZID=America/Toronto:20241008T133000
DTEND;TZID=America/Toronto:20241008T153000
DTSTAMP:20260421T150202
CREATED:20240507T150933Z
LAST-MODIFIED:20260310T145403Z
UID:20000157-1728394200-1728401400@diabete-estrie.ca
SUMMARY:Rencontre mensuelle
DESCRIPTION:Pour un brin de causette avec d’autres personnes diabétiques\, échanger\, tisser des nouveaux liens. Tous les 2e mardi du mois\, \nde 13:30 h à 15:30 h\, au 600\, rue Woodward à Sherbrooke avec Anne Marcoux notre infirmière elle même diabétique de type 1\, et Denis Boutin\, administrateur du conseil d’administration diabétique de type 1. \nMerci de vous inscrire au 819-823-8558 ou par courriel au info@diabete-estrie.ca \nNous vous proposons des jeux de société\, des causeries ou toutes autres activités qui sauront vous plaire. Nous sommes ouverts à vos suggestions!
URL:https://diabete-estrie.ca/evenement/apres-midi-causeries-3-2/2024-10-08/
LOCATION:600 rue Woodward\, 600 rue Woodward\, Sherbrooke\, Québec\, J1G 1W3\, Canada
CATEGORIES:Évènements passés
ATTACH;FMTTYPE=image/jpeg:https://diabete-estrie.ca/wp-content/uploads/2023/02/Designer2.jpg
ORGANIZER;CN="Diab%C3%A8te Estrie":MAILTO:info@diabete-estrie.ca
END:VEVENT
BEGIN:VEVENT
DTSTART;TZID=America/Toronto:20241020T093000
DTEND;TZID=America/Toronto:20241020T113000
DTSTAMP:20260421T150202
CREATED:20240311T144318Z
LAST-MODIFIED:20241022T145220Z
UID:20000071-1729416600-1729423800@diabete-estrie.ca
SUMMARY:La grande marche de Sherbrooke le 20 octobre 2024
DESCRIPTION:LA GRANDE MARCHE DE SHERBROOKE \nLa grande marche de Sherbrooke pour la 8 ième année ça marche! La Fédération des médecins omnipraticiens du Québec (FMOQ) et le Grand défi Pierre Lavoie organisent LA GRANDE MARCHE. À Sherbrooke c’est Diabète Estrie qui organise la Grande marche Sherbrookoise du 20 octobre prochain.  Cette marche GRATUITE de 2 et 5 km\, non chronométrée se veut une prescription collective pour la santé et le plaisir. \n  \nMerci de vous inscrire dès que possible à la marche : ONMARCHE.COM \nEn 2023 plus de 1200 personnes ont marché les parcours de 2 et de 5 km dans la joie et la bonne humeur. Parrainée par le groupe Le Grand Défi Pierre Lavoie \nLieu : Parc Lucien-Blanchard 755\, rue Cabana à Sherbrooke. \nDépart de 9h45 à 10h45 \nVoici quelques photos: \n \n\n				\n					\n				\n			\n 
URL:https://diabete-estrie.ca/evenement/la-grande-marche-de-sherbrooke-le-20-octobre-2024/
LOCATION:Parc Blanchard\, 755\, rue Cabana\, Sherbrooke\, Québec\, J1K 0A6\, Canada
CATEGORIES:Activités annuelles,Évènements passés
ATTACH;FMTTYPE=image/png:https://diabete-estrie.ca/wp-content/uploads/2024/03/Capture-decran-2024-09-17-145658.png
ORGANIZER;CN="Diab%C3%A8te Estrie":MAILTO:info@diabete-estrie.ca
END:VEVENT
BEGIN:VEVENT
DTSTART;TZID=America/Toronto:20241026T090000
DTEND;TZID=America/Toronto:20241027T160000
DTSTAMP:20260421T150202
CREATED:20240311T142956Z
LAST-MODIFIED:20241212T142000Z
UID:20000070-1729933200-1730044800@diabete-estrie.ca
SUMMARY:Salon 50+de l'ESTRIE
DESCRIPTION:Diabète Estrie sera au salon encore cette année! \nCet événement a été un véritable succès\, attirant cette année 7 700 visiteurs. Le Salon affichait complet avec 140 kiosques\, dont 40 nouveaux exposants. Cette diversité nous a permis d’offrir une expérience riche à chacun des visiteurs \nAvec notre pharmacienne et notre nutritionniste\, notre infirmière fera du dépistage de glycémie pour mieux vous servir. \nL’édition 2023 a été un succès et a attiré plus de 6 000 visiteurs. Les 100 exposants y ont présenté leurs produits et services\, et plusieurs en ont profité pour recruter des travailleurs d’expérience et des bénévoles. \nRéservez ces dates dans vos calendriers.
URL:https://diabete-estrie.ca/evenement/invitation-salon-50-bien-etre-art-de-vivre-2024/
LOCATION:Centre de foires de Sherbrooke\, 1600 Bd du Plateau-Saint-Joseph\, Sherbrooke\, Québec\, J1L 0C8\, Canada
CATEGORIES:Activités annuelles,Évènements passés
ATTACH;FMTTYPE=image/jpeg:https://diabete-estrie.ca/wp-content/uploads/2024/03/image-officielle.jpg
ORGANIZER;CN="Diab%C3%A8te Estrie":MAILTO:info@diabete-estrie.ca
END:VEVENT
BEGIN:VEVENT
DTSTART;VALUE=DATE:20241031
DTEND;VALUE=DATE:20241101
DTSTAMP:20260421T150202
CREATED:20240917T125155Z
LAST-MODIFIED:20241212T142050Z
UID:20000077-1730332800-1730419199@diabete-estrie.ca
SUMMARY:Les tirelires Halloween pour Diabète Estrie
DESCRIPTION:Tirelires Diabète Estrie \nDiabète Estrie est heureuse de lancer la campagne des tirelires de l’Halloween pendant tout le mois d’octobre. \nL’argent recueilli permettra\, à des enfants vivant avec le diabète de type 1\, de se rendre à un camp de vacances spécialisé l’été prochain. Un diabétique de type 1 est insulino-dépendant\, c’est-à-dire qu’il doit s’injecter de l’insuline quelques fois par jour\, d’abord pour survivre\, et puis\, si possible\, atteindre un  contrôle du niveau de sucre dans son sang (glycémie)\, qui lui permettra de fonctionner normalement comme tout être humain. Défi quotidien pour tout diabétique de type 1\, et imaginez pour un enfant en croissance\, la tâche qui l’attend et la maîtrise qu’il doit développer pour y arriver. \nCe camp pour enfants diabétiques apprend à chaque enfant\, d’abord qu’il n’est pas seul au monde à vivre avec cette maladie\, puis à calibrer les doses d’insuline à s’injecter\, à calculer la nourriture à ingérer pour le contrôle de la glycémie\, à calculer la dépense énergétique des activités\, à réagir aux diverses variations\, aux signes\, manifestations lorsque l’équilibre glycémique est rompu…et\, très important\, à s’amuser avec des copains. \nLa campagne des tirelires permet également aux enfants qui y participent d’être sensibilisés aux multiples défis auxquels font face les enfants diabétiques\, et possiblement certains de leurs amis\, tout en effectuant les premiers pas d’un engagement social dans leur communauté. \nMerci de votre collaboration. \n\nhttps://www.canadahelps.org/fr/organismesdebienfaisance/diabete-estrie/p2p/Tirelires2024
URL:https://diabete-estrie.ca/evenement/les-tirelires-halloween-pour-diabete-estrie/
LOCATION:Québec
CATEGORIES:Activités annuelles,Évènements passés
ATTACH;FMTTYPE=image/jpeg:https://diabete-estrie.ca/wp-content/uploads/2024/09/Image1.jpg
ORGANIZER;CN="Diab%C3%A8te Estrie":MAILTO:info@diabete-estrie.ca
END:VEVENT
END:VCALENDAR