BEGIN:VCALENDAR
VERSION:2.0
PRODID:-//Diabète Estrie - ECPv6.15.18//NONSGML v1.0//EN
CALSCALE:GREGORIAN
METHOD:PUBLISH
X-ORIGINAL-URL:https://diabete-estrie.ca
X-WR-CALDESC:Évènements pour Diabète Estrie
REFRESH-INTERVAL;VALUE=DURATION:PT1H
X-Robots-Tag:noindex
X-PUBLISHED-TTL:PT1H
BEGIN:VTIMEZONE
TZID:America/Toronto
BEGIN:DAYLIGHT
TZOFFSETFROM:-0500
TZOFFSETTO:-0400
TZNAME:EDT
DTSTART:20230312T070000
END:DAYLIGHT
BEGIN:STANDARD
TZOFFSETFROM:-0400
TZOFFSETTO:-0500
TZNAME:EST
DTSTART:20231105T060000
END:STANDARD
BEGIN:DAYLIGHT
TZOFFSETFROM:-0500
TZOFFSETTO:-0400
TZNAME:EDT
DTSTART:20240310T070000
END:DAYLIGHT
BEGIN:STANDARD
TZOFFSETFROM:-0400
TZOFFSETTO:-0500
TZNAME:EST
DTSTART:20241103T060000
END:STANDARD
BEGIN:DAYLIGHT
TZOFFSETFROM:-0500
TZOFFSETTO:-0400
TZNAME:EDT
DTSTART:20250309T070000
END:DAYLIGHT
BEGIN:STANDARD
TZOFFSETFROM:-0400
TZOFFSETTO:-0500
TZNAME:EST
DTSTART:20251102T060000
END:STANDARD
END:VTIMEZONE
BEGIN:VEVENT
DTSTART;TZID=America/Toronto:20241112T133000
DTEND;TZID=America/Toronto:20241112T153000
DTSTAMP:20260421T133149
CREATED:20240507T150933Z
LAST-MODIFIED:20260310T145403Z
UID:20000158-1731418200-1731425400@diabete-estrie.ca
SUMMARY:Rencontre mensuelle
DESCRIPTION:Pour un brin de causette avec d’autres personnes diabétiques\, échanger\, tisser des nouveaux liens. Tous les 2e mardi du mois\, \nde 13:30 h à 15:30 h\, au 600\, rue Woodward à Sherbrooke avec Anne Marcoux notre infirmière elle même diabétique de type 1\, et Denis Boutin\, administrateur du conseil d’administration diabétique de type 1. \nMerci de vous inscrire au 819-823-8558 ou par courriel au info@diabete-estrie.ca \nNous vous proposons des jeux de société\, des causeries ou toutes autres activités qui sauront vous plaire. Nous sommes ouverts à vos suggestions!
URL:https://diabete-estrie.ca/evenement/apres-midi-causeries-3-2/2024-11-12/
LOCATION:600 rue Woodward\, 600 rue Woodward\, Sherbrooke\, Québec\, J1G 1W3\, Canada
CATEGORIES:Évènements passés
ATTACH;FMTTYPE=image/jpeg:https://diabete-estrie.ca/wp-content/uploads/2023/02/Designer2.jpg
ORGANIZER;CN="Diab%C3%A8te Estrie":MAILTO:info@diabete-estrie.ca
END:VEVENT
BEGIN:VEVENT
DTSTART;VALUE=DATE:20241114
DTEND;VALUE=DATE:20241115
DTSTAMP:20260421T133149
CREATED:20230226T182106Z
LAST-MODIFIED:20230324T193418Z
UID:20000009-1731542400-1731628799@diabete-estrie.ca
SUMMARY:14 novembre - Journée mondiale
DESCRIPTION:Diabète Estrie vous invite à porter du bleu le 14 novembre prochain et ainsi faire la promotion de la couleur mondiale de la sensibilisation au diabète. Prenez une photo et envoyez-nous celle-ci à info@diabete-estrie.ca ou ajoutez-là sur la page Facebook de Diabète Estrie. \nLa couleur bleue reflète le ciel qui unit toutes les nations ; c’est en outre la couleur du drapeau des Nations Unies. Autre symbole de la journée\, le cercle bleu représente l’unité de la communauté mondiale du diabète face à la pandémie de celui-ci. \nLa Journée Mondiale du Diabète c’est quoi? C’est la plus importante campagne mondiale de sensibilisation au diabète. Elle a été lancée en 1991 comme réponse à l’escalade de l’incidence du diabète dans le monde. Pour marquer cette journée et être solidaire à la cause\, Diabète Estrie vous invite à porter du bleu – un chandail\, un jean\, un foulard\, une cravate\, une chemise\,… – afin de soutenir la cause du diabète. Un petit geste qui fait toute LA différence ! Joignez-vous à nous pour mettre de l’avant une problématique qui affecte 10% des Québécois. \nOn célèbre quand? Chaque année le 14 novembre. Cette date a été choisie\, en l’honneur de l’anniversaire de Frederick Banting qui\, avec Charles Best\, a développé la théorie à l’origine de la découverte de l’insuline en 1922. \nVous souhaitez en faire plus en ce mois spécial pour soutenir Diabète Estrie ? Faites un don ici. \nUn reçu d’impôt sera émis pour tout don de 10$ et plus.\nL’Équipe de Diabète Estrie vous remercie. \n\nVoir les photos de l’évènement
URL:https://diabete-estrie.ca/evenement/14-novembre-journee-mondiale/2024-11-14/
LOCATION:La maison Jeannine-Lapierre\, 600 rue Woodward\, Sherbrooke\, Québec\, J1G 1W3\, Canada
CATEGORIES:Activités annuelles
ATTACH;FMTTYPE=image/jpeg:https://diabete-estrie.ca/wp-content/uploads/2023/02/journee_mondial_diabete-estrie.jpg
ORGANIZER;CN="Diab%C3%A8te Estrie":MAILTO:info@diabete-estrie.ca
END:VEVENT
END:VCALENDAR